BEGIN:VCALENDAR
VERSION:2.0
PRODID:icalendar-ruby
CALSCALE:GREGORIAN
METHOD:PUBLISH
BEGIN:VEVENT
DTSTAMP:20260423T165644Z
UID:346-496648@lutheransnw.org
DTSTART;VALUE=DATE:20261106
DTEND;VALUE=DATE:20261108
CLASS:PUBLIC
CREATED:20260401T093250
DESCRIPTION:\n\n\n\n\n\n\n\nFall Middle School &amp\; High School Retreat \
 nSave the Date / Help Needed\nNovember 6-8 at Black Diamond Camp\nJoin us
  November 6-8 for the NWWA/SWWA Synod Fall Retreat. We will be at Black Di
 amond Camp with a theme of “Faith: The Final Frontier.” The cost is $1
 75 per person if you register during early registration. An email with add
 itional information will be sent out mid-May. More details will be availab
 le and registration opens in mid-September.\nIf you have any questions\, p
 lease email cyflutheransnw@gmail.com. \n\n\n\n\n\n\n\n
LAST-MODIFIED:20260401T093250
LOCATION:Black Diamond Camp
SUMMARY:MS and HS Youth Retreat Fall 2026
URL;VALUE=URI:https://lutheransnw.org/events/ms-and-hs-youth-retreat-fall-2
 026/2026-11-06
ATTACH;FILENAME=save the date.jpg;FMTTYPE=image/jpeg:https://dq5pwpg1q8ru0.
 cloudfront.net/2026/04/01/16/32/50/aa746f9e-35c4-4060-845b-a0441447f126/sa
 ve%20the%20date.jpg
END:VEVENT
END:VCALENDAR
